BEGIN:VCALENDAR
VERSION:2.0
PRODID:-//Animation SA - ECPv6.15.20//NONSGML v1.0//EN
CALSCALE:GREGORIAN
METHOD:PUBLISH
X-WR-CALNAME:Animation SA
X-ORIGINAL-URL:https://animationsa.org
X-WR-CALDESC:Events for Animation SA
REFRESH-INTERVAL;VALUE=DURATION:PT1H
X-Robots-Tag:noindex
X-PUBLISHED-TTL:PT1H
BEGIN:VTIMEZONE
TZID:Africa/Johannesburg
BEGIN:STANDARD
TZOFFSETFROM:+0200
TZOFFSETTO:+0200
TZNAME:SAST
DTSTART:20220101T000000
END:STANDARD
END:VTIMEZONE
BEGIN:VEVENT
DTSTART;VALUE=DATE:20230922
DTEND;VALUE=DATE:20230926
DTSTAMP:20260420T171653
CREATED:20230912T110902Z
LAST-MODIFIED:20230912T113938Z
UID:1279-1695340800-1695686399@animationsa.org
SUMMARY:Comic Con Africa
DESCRIPTION:Comic Con Africa is the Ultimate Pop Culture & Gaming Festival in Africa\, and we will be back in 2023! We are bringing the URL to IRL with collaboration and unique culture moments involving Merch\, Gaming\, Art\, Comics\, Tech\, International Talent\, Film & Food! \nComic Con Africa is a platform for both local and international Entertainment and Pop Culture\, including some of the world’s biggest in the Film\, Gaming\, Comics\, Collectibles and more! 
URL:https://animationsa.org/event/comic-con-africa/
LOCATION:Johannesburg Expo Center\, Nasrec rd\, corner Rand Show Rd\, Nasrec\,\, Johannesburg\, Gauteng\, 2091\, South Africa
CATEGORIES:Festivals
ATTACH;FMTTYPE=image/jpeg:https://animationsa.org/wp-content/uploads/comiconafrica.jpg
END:VEVENT
BEGIN:VEVENT
DTSTART;TZID=Africa/Johannesburg:20230916T093000
DTEND;TZID=Africa/Johannesburg:20230917T160000
DTSTAMP:20260420T171653
CREATED:20230912T113347Z
LAST-MODIFIED:20230912T113347Z
UID:1293-1694856600-1694966400@animationsa.org
SUMMARY:AVIJOZI
DESCRIPTION:AVIJOZI is a free-of-charge festival that aims to connect creatives\, technicians\, software developers\, AI researchers\, artists\, writers\, directors\, producers\, students\, VFX and animation studios\, and industry enthusiasts from South Africa and beyond. \nCreating platforms for collaboration – The festival aims to be the catalyst that sparks significant local and international interest in animation\, VFX\, and interactive spaces. \nWhether you’re a seasoned industry professional or just starting\, AVIJOZI has something to offer you.
URL:https://animationsa.org/event/avijozi/
LOCATION:UJ Arts Centre APK\, Gauteng\, South Africa
CATEGORIES:Festivals
ATTACH;FMTTYPE=image/jpeg:https://animationsa.org/wp-content/uploads/358450139_241495541979638_1820178011174910076_n-scaled.jpg
END:VEVENT
END:VCALENDAR