BEGIN:VCALENDAR
VERSION:2.0
PRODID:-//Animation SA - ECPv6.15.20//NONSGML v1.0//EN
CALSCALE:GREGORIAN
METHOD:PUBLISH
X-ORIGINAL-URL:https://animationsa.org
X-WR-CALDESC:Events for Animation SA
REFRESH-INTERVAL;VALUE=DURATION:PT1H
X-Robots-Tag:noindex
X-PUBLISHED-TTL:PT1H
BEGIN:VTIMEZONE
TZID:Africa/Johannesburg
BEGIN:STANDARD
TZOFFSETFROM:+0200
TZOFFSETTO:+0200
TZNAME:SAST
DTSTART:20220101T000000
END:STANDARD
END:VTIMEZONE
BEGIN:VEVENT
DTSTART;VALUE=DATE:20231013
DTEND;VALUE=DATE:20231016
DTSTAMP:20260420T192918
CREATED:20230912T104958Z
LAST-MODIFIED:20230912T111234Z
UID:1267-1697155200-1697414399@animationsa.org
SUMMARY:MIPJUNIOR
DESCRIPTION:MIPJUNIOR starts with a half-day pre-opening on Friday 13 October and runs through Sunday 15 October. \nMIPJUNIOR gathers in Cannes the most influential buyers\, commissioners\, producers\, development executives and distributors from the global Kids TV industry.\nMIPJUNIOR will take place on 13-15 October 2023\, with a pre-opening on the Friday including the opening of the Screenings Library\, conference sessions and an opening cocktail.  Followed by a targeted weekend of in-person networking\, pitching\, conferences and content discovery through the world’s largest Screenings Library of Kids content. MIPJUNIOR is the perfect destination for producers and distributors to stand out and for buyers and commissioners to discover the latest kids programming before sealing their partnerships at MIPCOM.
URL:https://animationsa.org/event/mipjunior/
LOCATION:JW Marriott\, Cannes\, France
CATEGORIES:Events
ATTACH;FMTTYPE=image/png:https://animationsa.org/wp-content/uploads/mipjunior-1.png
END:VEVENT
BEGIN:VEVENT
DTSTART;VALUE=DATE:20231016
DTEND;VALUE=DATE:20231020
DTSTAMP:20260420T192918
CREATED:20230912T110328Z
LAST-MODIFIED:20230912T110328Z
UID:1276-1697414400-1697759999@animationsa.org
SUMMARY:MIPCOM CANNES 2023
DESCRIPTION:The World’s Greatest Gathering of TV and Entertainment Executives \nMIPCOM CANNES –  Celebrated as ‘the mother of all entertainment content markets’\, and happening every October\, MIPCOM is the most anticipated week for global decision-makers to compete for new series\, source international production partners\, and set the development agenda for the coming year and beyond. \nDeals get done through a magical mix of networking events and unlimited planned and serendipitous business opportunities from morning until night\, all against the backdrop of the Cannes’ fabled Croisette on France’s Côte d’Azur.
URL:https://animationsa.org/event/mipcom-cannes-2023/
LOCATION:Palais des Festivals\, Cannes\, France
CATEGORIES:Events
ATTACH;FMTTYPE=image/jpeg:https://animationsa.org/wp-content/uploads/mipcom-banner.jpg
END:VEVENT
END:VCALENDAR